BEGIN:VCALENDAR
VERSION:2.0
PRODID:-//The Bay Areas e.V. - ECPv6.15.20//NONSGML v1.0//EN
CALSCALE:GREGORIAN
METHOD:PUBLISH
X-WR-CALNAME:The Bay Areas e.V.
X-ORIGINAL-URL:https://the-bay-areas.de/en
X-WR-CALDESC:Events for The Bay Areas e.V.
REFRESH-INTERVAL;VALUE=DURATION:PT1H
X-Robots-Tag:noindex
X-PUBLISHED-TTL:PT1H
BEGIN:VTIMEZONE
TZID:Europe/Helsinki
BEGIN:DAYLIGHT
TZOFFSETFROM:+0200
TZOFFSETTO:+0300
TZNAME:EEST
DTSTART:20250330T010000
END:DAYLIGHT
BEGIN:STANDARD
TZOFFSETFROM:+0300
TZOFFSETTO:+0200
TZNAME:EET
DTSTART:20251026T010000
END:STANDARD
BEGIN:DAYLIGHT
TZOFFSETFROM:+0200
TZOFFSETTO:+0300
TZNAME:EEST
DTSTART:20260329T010000
END:DAYLIGHT
BEGIN:STANDARD
TZOFFSETFROM:+0300
TZOFFSETTO:+0200
TZNAME:EET
DTSTART:20261025T010000
END:STANDARD
BEGIN:DAYLIGHT
TZOFFSETFROM:+0200
TZOFFSETTO:+0300
TZNAME:EEST
DTSTART:20270328T010000
END:DAYLIGHT
BEGIN:STANDARD
TZOFFSETFROM:+0300
TZOFFSETTO:+0200
TZNAME:EET
DTSTART:20271031T010000
END:STANDARD
END:VTIMEZONE
BEGIN:VEVENT
DTSTART;VALUE=DATE:20260324
DTEND;VALUE=DATE:20260325
DTSTAMP:20260423T003703
CREATED:20251117T130217Z
LAST-MODIFIED:20251117T130217Z
UID:993196-1774310400-1774396799@the-bay-areas.de
SUMMARY:Mitgliederversammlung 2026
DESCRIPTION:– nur für Mitglieder –
URL:https://the-bay-areas.de/en/kalender/mitgliederversammlung-2026/
END:VEVENT
BEGIN:VEVENT
DTSTART;VALUE=DATE:20260324
DTEND;VALUE=DATE:20260325
DTSTAMP:20260423T003703
CREATED:20251117T130636Z
LAST-MODIFIED:20260310T171258Z
UID:993198-1774310400-1774396799@the-bay-areas.de
SUMMARY:Digital Challenge - New Horizons
DESCRIPTION:Digitalisierung im Mittelstand – praxisnahe Impulse\, ehrliche Use Cases und Networking \nWie machen andere Digitalisierung? Mit welchen konkreten digitalen und KI-gestützten Prozessen können sich Unternehmen von Dienstleistung über Produktion bis Landwirtschaft im Wettbewerb erfolgreich für die Zukunft aufstellen? Wie lassen sich diese in die bestehenden Abläufe integrieren? Wo gibt es Unterstützung? \nGemeinsam mit KI.SH und DiWiSH wollen wir genau darauf Antworten geben. und Möglichkeiten aufzeigen\, wie Institutionen und Unternehmen einen praxisorientierten Einstieg in Digitalsierung und KI finden. Als The Bay Areas bringen wir außerdem frischen Input von unserer Delegationsreise aus San Francisco und dem Silicon Valley mit – direkt aus einem der spannendsten Innovationsökosysteme der Welt. \nDigital Challenge – New Horizons\n18:15 – 18:20 Uhr: Begrüßung & Eröffnung Frank Bösenkötter\, The Bay Areas\, mit einem Grußwort von US-Generalkonsul Scott Woodard\n18:20 – 18:30 Uhr: „Innovation und Mindset – Impulse aus dem Silicon Valley“ – Axel Schulz\, The Bay Areas\n18:30 – 18:50 Uhr: Keynote: KI im Mittelstand\, Dirk Schrödter\, Digitalisierungsminister und Schirmherr Digital Challenge\n18:50 – 19:00 Uhr: „KI-Ökosystem & Digital Challenge“ – Eike Zimmermann\, KI.SH\, Dr. Johannes Ripken\, DiWiSH\n19:00 – 19:30 Uhr: Use-Cases aus der Digital Challenge \nAb etwa 19:30 Uhr lassen wir den Abend in entspannter Atmosphäre bei Essen\, Getränken und Networking ausklingen – Zeit zum Austauschen\, Kennenlernen und Weiterdenken. \nZur Anmeldung
URL:https://the-bay-areas.de/en/kalender/digital-challenge-new-horizons/
CATEGORIES:Digital Challenge
END:VEVENT
END:VCALENDAR