BEGIN:VCALENDAR
VERSION:2.0
PRODID:-//The Bay Areas e.V. - ECPv6.15.20//NONSGML v1.0//EN
CALSCALE:GREGORIAN
METHOD:PUBLISH
X-WR-CALNAME:The Bay Areas e.V.
X-ORIGINAL-URL:https://the-bay-areas.de/en
X-WR-CALDESC:Events for The Bay Areas e.V.
REFRESH-INTERVAL;VALUE=DURATION:PT1H
X-Robots-Tag:noindex
X-PUBLISHED-TTL:PT1H
BEGIN:VTIMEZONE
TZID:Europe/Helsinki
BEGIN:DAYLIGHT
TZOFFSETFROM:+0200
TZOFFSETTO:+0300
TZNAME:EEST
DTSTART:20240331T010000
END:DAYLIGHT
BEGIN:STANDARD
TZOFFSETFROM:+0300
TZOFFSETTO:+0200
TZNAME:EET
DTSTART:20241027T010000
END:STANDARD
BEGIN:DAYLIGHT
TZOFFSETFROM:+0200
TZOFFSETTO:+0300
TZNAME:EEST
DTSTART:20250330T010000
END:DAYLIGHT
BEGIN:STANDARD
TZOFFSETFROM:+0300
TZOFFSETTO:+0200
TZNAME:EET
DTSTART:20251026T010000
END:STANDARD
BEGIN:DAYLIGHT
TZOFFSETFROM:+0200
TZOFFSETTO:+0300
TZNAME:EEST
DTSTART:20260329T010000
END:DAYLIGHT
BEGIN:STANDARD
TZOFFSETFROM:+0300
TZOFFSETTO:+0200
TZNAME:EET
DTSTART:20261025T010000
END:STANDARD
BEGIN:DAYLIGHT
TZOFFSETFROM:+0200
TZOFFSETTO:+0300
TZNAME:EEST
DTSTART:20270328T010000
END:DAYLIGHT
BEGIN:STANDARD
TZOFFSETFROM:+0300
TZOFFSETTO:+0200
TZNAME:EET
DTSTART:20271031T010000
END:STANDARD
END:VTIMEZONE
BEGIN:VTIMEZONE
TZID:UTC
BEGIN:STANDARD
TZOFFSETFROM:+0000
TZOFFSETTO:+0000
TZNAME:UTC
DTSTART:20240101T000000
END:STANDARD
END:VTIMEZONE
BEGIN:VTIMEZONE
TZID:Europe/Paris
BEGIN:DAYLIGHT
TZOFFSETFROM:+0100
TZOFFSETTO:+0200
TZNAME:CEST
DTSTART:20240331T010000
END:DAYLIGHT
BEGIN:STANDARD
TZOFFSETFROM:+0200
TZOFFSETTO:+0100
TZNAME:CET
DTSTART:20241027T010000
END:STANDARD
BEGIN:DAYLIGHT
TZOFFSETFROM:+0100
TZOFFSETTO:+0200
TZNAME:CEST
DTSTART:20250330T010000
END:DAYLIGHT
BEGIN:STANDARD
TZOFFSETFROM:+0200
TZOFFSETTO:+0100
TZNAME:CET
DTSTART:20251026T010000
END:STANDARD
BEGIN:DAYLIGHT
TZOFFSETFROM:+0100
TZOFFSETTO:+0200
TZNAME:CEST
DTSTART:20260329T010000
END:DAYLIGHT
BEGIN:STANDARD
TZOFFSETFROM:+0200
TZOFFSETTO:+0100
TZNAME:CET
DTSTART:20261025T010000
END:STANDARD
END:VTIMEZONE
BEGIN:VEVENT
DTSTART;TZID=Europe/Helsinki:20250911T170000
DTEND;TZID=Europe/Helsinki:20250911T210000
DTSTAMP:20260422T145920
CREATED:20250327T112854Z
LAST-MODIFIED:20250711T070803Z
UID:992468-1757610000-1757624400@the-bay-areas.de
SUMMARY:Überflieger Finale
DESCRIPTION:
URL:https://the-bay-areas.de/en/kalender/ueberflieger-finale-2/
CATEGORIES:Überflieger Wettbewerb
END:VEVENT
BEGIN:VEVENT
DTSTART;VALUE=DATE:20251017
DTEND;VALUE=DATE:20251031
DTSTAMP:20260422T145921
CREATED:20251013T112201Z
LAST-MODIFIED:20251013T112823Z
UID:993088-1760659200-1761868799@the-bay-areas.de
SUMMARY:Zero Sugar - Ausstellung und Lesung
DESCRIPTION:– Veranstaltungstipp – \n  \nBo Harley Lenschau – Zero Sugar \n \nÖffnungszeiten: \n\nFr. 17.10. 18:00 Uhr: Buchrelease mit Lesung\nSa. 18.10. 15:00–17:00 Uhr: Künstler vor Ort\n21.10.–23.10. 13:00–17:00 Uhr\n28.10.–30.10. 13:00–17:00 Uhr\n\nAusstellungort: No Talent Shop\, Feldstraße 40\, 24105 Kiel \nBo Harley Lenschau ist freischaffender Künstler im Bereich Musik und Fotografie und hat von Ende 2019 bis Mitte 2021 in San Francisco Fotografie\, Design und Journalismus studiert. Seine Eindrücke hat er mit der Kamera festgehalten und sich dabei mit Fragen beschäftigt\, die über die Grenzen San Franciscos hinausgehen und auch Städte wie Bo’s Herkunftsstadt Kiel betreffen. \nZero Sugar ist eine fotografische Auseinandersetzung mit Stadt und Zusammenleben eines jungen Menschen in San Francisco. Die Fotografien dokumentieren die sichtbaren Veränderungen im öffentlichen Raum während der Corona-Zeit und hinterfragen gesellschaftliche Mechanismen von Isolation\, Privilegien und Ausgrenzung. Bo Lentschau lädt mit seinen Arbeiten dazu ein\, Empathie als Haltung im urbanen Zusammenleben neu zu betrachten. \nwww.boharley.com \n  \nAusführlichere Beschreibung \nDer Kern des Buches Zero Sugar\, die Fotografien\, entstand aus einem naiven und neugierigen Drang\, die Stadt San Francisco kennenzulernen. \nBo\, ein junger Mensch aus Norddeutschland\, beginnt sein Studium Anfang 2020 in dieser neuen Stadt und findet sich wieder in Zeiten der Pandemie. In persönlichen Beobachtungen dokumentiert er\, wie der öffentliche Raum neu verhandelt wurde: Geschlossene Einrichtungen\, improvisierte Straßenkonzerte\, Märkte auf Gehwegen oder auch der Ausschluss wohnungsloser Menschen aus Notunterkünften. Es ergab sich ein neues Stadtbild\, welches bereits bestehende Brüche und Widersprüche des städtischen Lebens ungewollt in den Vordergrund stellte. \nDaraufhin begann die Suche nach Mustern\, Erklärungen und der Konfrontation der eigenen Identität in all dem\, als Versuch der Einordnung und emotionalen Verarbeitung. \nEs entwickelte sich eine weitergehende Reflexion über Privilegien\, Isolation und gesellschaftliche Spaltungen – zwischen Tech-Elite und Marginalisierten\, zwischen Anblick und Verdrängung\, zwischen Empathie und Abstumpfung. \nIn der Auseinandersetzung kamen Fragen auf\, die über die Grenzen San Franciscos hinausgehen und auch Städte wie Bo’s Herkunftsstadt Kiel betreffen. Der Titel Zero Sugar steht für die Suche nach Kontrolle und Ausgleich in einem von Widersprüchen geprägten Alltag – und fragt letztlich danach\, wie viel Raum wir als Gesellschaft bereit sind\, anderen zuzugestehen. \nEckdaten zum Buch: Titel: Zero Sugar\, Fotos und Texte von Bo Harley Lenschau\, Design vom Design Studio No Talent
URL:https://the-bay-areas.de/en/kalender/zero-sugar-ausstellung-und-lesung/
LOCATION:No Talent Shop\, Feldstraße 40\, Kiel\, 24105
CATEGORIES:Sonstiges
END:VEVENT
BEGIN:VEVENT
DTSTART;VALUE=DATE:20251029
DTEND;VALUE=DATE:20251108
DTSTAMP:20260422T145921
CREATED:20250327T112124Z
LAST-MODIFIED:20250327T112124Z
UID:992461-1761696000-1762559999@the-bay-areas.de
SUMMARY:Digitale Challenge 2025
DESCRIPTION:
URL:https://the-bay-areas.de/en/kalender/digitale-challenge-2025/
CATEGORIES:Digital Challenge
END:VEVENT
BEGIN:VEVENT
DTSTART;TZID=Europe/Helsinki:20251107T180000
DTEND;TZID=Europe/Helsinki:20251107T210000
DTSTAMP:20260422T145921
CREATED:20250929T054609Z
LAST-MODIFIED:20251013T081844Z
UID:992982-1762538400-1762549200@the-bay-areas.de
SUMMARY:Wrap up! Digital Challenge 2025
DESCRIPTION:Nach einer Woche intensiver Arbeit\, vieler innovativer Ideen und einem spannenden Finale der Digitale Challenge wollen wir gemeinsam mit Interessierten\, Studierenden\, Unternehmen und unserem Netzwerk feiern – KI-Promptathon inklusive!
URL:https://the-bay-areas.de/en/kalender/finale-der-digital-challenge-2025/
LOCATION:IHK zu Kiel\, Bergstraße 2\, Kiel\, 24103
CATEGORIES:Digital Challenge
END:VEVENT
BEGIN:VEVENT
DTSTART;TZID=Europe/Paris:20251126T170000
DTEND;TZID=Europe/Paris:20251126T203000
DTSTAMP:20260422T145921
CREATED:20250327T111958Z
LAST-MODIFIED:20251112T155508Z
UID:992459-1764176400-1764189000@the-bay-areas.de
SUMMARY:Thanksgiving Event - Building Transatlantic Bridges
DESCRIPTION:Gemeinsam mit der Amerika-Gesellschaft Schleswig-Holstein e. V. und der Transatlantic Student Initiative veranstalten wir anlässlich Thanksgiving einen besonderen transatlantischen Abend. \nUnter dem Motto „Building Transatlantic Bridges“ möchten wir an diesem Abend gemeinsam mit Gästen aus Wissenschaft\, Bildung\, Wirtschaft\, Kultur und Politik die transatlantischen Beziehungen und Werte feiern und stärken. \nWir freuen uns sehr\, dass der US-Generalkonsul in Hamburg\, Scott Woodart\, ein Grußwort halten wird. Im Anschluss folgt eine Podiumsdiskussion über die Bedeutung der transatlantischen Werte in der heutigen Zeit. \nWir möchten an diesem Abend deutlich machen\, wie lebendig Menschen aus Schleswig-Holstein und San Francisco bzw. den USA stabile Brücken über den Atlantik bauen und freuen uns darauf\, beim anschließenden  Networking mit Snacks und Getränken gemeinsam neue Verbindungen zu knüpfen.
URL:https://the-bay-areas.de/en/kalender/thanksgiving-event/
LOCATION:Baukulturforum\, Waisenhofstraße 3\, Kiel\, 24103\, Germany
END:VEVENT
BEGIN:VEVENT
DTSTART;VALUE=DATE:20260324
DTEND;VALUE=DATE:20260325
DTSTAMP:20260422T145921
CREATED:20251117T130217Z
LAST-MODIFIED:20251117T130217Z
UID:993196-1774310400-1774396799@the-bay-areas.de
SUMMARY:Mitgliederversammlung 2026
DESCRIPTION:– nur für Mitglieder –
URL:https://the-bay-areas.de/en/kalender/mitgliederversammlung-2026/
END:VEVENT
BEGIN:VEVENT
DTSTART;VALUE=DATE:20260324
DTEND;VALUE=DATE:20260325
DTSTAMP:20260422T145921
CREATED:20251117T130636Z
LAST-MODIFIED:20260310T171258Z
UID:993198-1774310400-1774396799@the-bay-areas.de
SUMMARY:Digital Challenge - New Horizons
DESCRIPTION:Digitalisierung im Mittelstand – praxisnahe Impulse\, ehrliche Use Cases und Networking \nWie machen andere Digitalisierung? Mit welchen konkreten digitalen und KI-gestützten Prozessen können sich Unternehmen von Dienstleistung über Produktion bis Landwirtschaft im Wettbewerb erfolgreich für die Zukunft aufstellen? Wie lassen sich diese in die bestehenden Abläufe integrieren? Wo gibt es Unterstützung? \nGemeinsam mit KI.SH und DiWiSH wollen wir genau darauf Antworten geben. und Möglichkeiten aufzeigen\, wie Institutionen und Unternehmen einen praxisorientierten Einstieg in Digitalsierung und KI finden. Als The Bay Areas bringen wir außerdem frischen Input von unserer Delegationsreise aus San Francisco und dem Silicon Valley mit – direkt aus einem der spannendsten Innovationsökosysteme der Welt. \nDigital Challenge – New Horizons\n18:15 – 18:20 Uhr: Begrüßung & Eröffnung Frank Bösenkötter\, The Bay Areas\, mit einem Grußwort von US-Generalkonsul Scott Woodard\n18:20 – 18:30 Uhr: „Innovation und Mindset – Impulse aus dem Silicon Valley“ – Axel Schulz\, The Bay Areas\n18:30 – 18:50 Uhr: Keynote: KI im Mittelstand\, Dirk Schrödter\, Digitalisierungsminister und Schirmherr Digital Challenge\n18:50 – 19:00 Uhr: „KI-Ökosystem & Digital Challenge“ – Eike Zimmermann\, KI.SH\, Dr. Johannes Ripken\, DiWiSH\n19:00 – 19:30 Uhr: Use-Cases aus der Digital Challenge \nAb etwa 19:30 Uhr lassen wir den Abend in entspannter Atmosphäre bei Essen\, Getränken und Networking ausklingen – Zeit zum Austauschen\, Kennenlernen und Weiterdenken. \nZur Anmeldung
URL:https://the-bay-areas.de/en/kalender/digital-challenge-new-horizons/
CATEGORIES:Digital Challenge
END:VEVENT
END:VCALENDAR